BEGIN:VCALENDAR
VERSION:2.0
PRODID:-//Gremio Gasero Nacional - ECPv6.15.20//NONSGML v1.0//EN
CALSCALE:GREGORIAN
METHOD:PUBLISH
X-WR-CALNAME:Gremio Gasero Nacional
X-ORIGINAL-URL:https://gremiogaseronacional.mx
X-WR-CALDESC:Eventos para Gremio Gasero Nacional
REFRESH-INTERVAL;VALUE=DURATION:PT1H
X-Robots-Tag:noindex
X-PUBLISHED-TTL:PT1H
BEGIN:VTIMEZONE
TZID:America/Mexico_City
BEGIN:STANDARD
TZOFFSETFROM:-0600
TZOFFSETTO:-0600
TZNAME:CST
DTSTART:20230101T000000
END:STANDARD
END:VTIMEZONE
BEGIN:VEVENT
DTSTART;TZID=America/Mexico_City:20240720T080000
DTEND;TZID=America/Mexico_City:20240720T170000
DTSTAMP:20260422T080708
CREATED:20240716T194336Z
LAST-MODIFIED:20240716T195405Z
UID:3799-1721462400-1721494800@gremiogaseronacional.mx
SUMMARY:Taller de Gas LP en México y el mundo que viene para los próximos años
DESCRIPTION:
URL:https://gremiogaseronacional.mx/evento/taller-de-gas-lp-en-mexico-y-el-mundo-que-viene-para-los-proximos-anos/
CATEGORIES:Eventos de la Mesa Directiva,Próximos eventos Generales
ATTACH;FMTTYPE=image/webp:https://gremiogaseronacional.mx/wp-content/uploads/2024/07/Primer-Taller-Gas-LP-GGNAC_Mesa-de-trabajo-1.webp
END:VEVENT
END:VCALENDAR